BEGIN:VCALENDAR
VERSION:2.0
PRODID:-//Anishnabeg Outreach - ECPv6.15.20//NONSGML v1.0//EN
CALSCALE:GREGORIAN
METHOD:PUBLISH
X-WR-CALNAME:Anishnabeg Outreach
X-ORIGINAL-URL:https://aocan.org
X-WR-CALDESC:Events for Anishnabeg Outreach
REFRESH-INTERVAL;VALUE=DURATION:PT1H
X-Robots-Tag:noindex
X-PUBLISHED-TTL:PT1H
BEGIN:VTIMEZONE
TZID:America/Toronto
BEGIN:DAYLIGHT
TZOFFSETFROM:-0500
TZOFFSETTO:-0400
TZNAME:EDT
DTSTART:20220313T070000
END:DAYLIGHT
BEGIN:STANDARD
TZOFFSETFROM:-0400
TZOFFSETTO:-0500
TZNAME:EST
DTSTART:20221106T060000
END:STANDARD
BEGIN:DAYLIGHT
TZOFFSETFROM:-0500
TZOFFSETTO:-0400
TZNAME:EDT
DTSTART:20230312T070000
END:DAYLIGHT
BEGIN:STANDARD
TZOFFSETFROM:-0400
TZOFFSETTO:-0500
TZNAME:EST
DTSTART:20231105T060000
END:STANDARD
BEGIN:DAYLIGHT
TZOFFSETFROM:-0500
TZOFFSETTO:-0400
TZNAME:EDT
DTSTART:20240310T070000
END:DAYLIGHT
BEGIN:STANDARD
TZOFFSETFROM:-0400
TZOFFSETTO:-0500
TZNAME:EST
DTSTART:20241103T060000
END:STANDARD
END:VTIMEZONE
BEGIN:VEVENT
DTSTART;TZID=America/Toronto:20231206T103000
DTEND;TZID=America/Toronto:20231206T103000
DTSTAMP:20260421T133457
CREATED:20231116T192836Z
LAST-MODIFIED:20231116T192859Z
UID:11036-1701858600-1701858600@aocan.org
SUMMARY:Storytime with Nan
DESCRIPTION:
URL:https://aocan.org/event/storytime-with-nan-6/2023-12-06/
CATEGORIES:EarlyOn
ATTACH;FMTTYPE=image/jpeg:https://aocan.org/wordpress/wp-content/uploads/2023/02/Featured-EarlyON-Calendar-Images-1.jpg
END:VEVENT
BEGIN:VEVENT
DTSTART;TZID=America/Toronto:20231206T100000
DTEND;TZID=America/Toronto:20231206T100000
DTSTAMP:20260421T133457
CREATED:20231116T193018Z
LAST-MODIFIED:20231116T193052Z
UID:11042-1701856800-1701856800@aocan.org
SUMMARY:Art with Jaime
DESCRIPTION:
URL:https://aocan.org/event/art-with-jaime-3/2023-12-06/
CATEGORIES:EarlyOn
ATTACH;FMTTYPE=image/jpeg:https://aocan.org/wordpress/wp-content/uploads/2023/01/8-1.jpg
END:VEVENT
BEGIN:VEVENT
DTSTART;TZID=America/Toronto:20231205T110000
DTEND;TZID=America/Toronto:20231205T110000
DTSTAMP:20260421T133457
CREATED:20231116T192424Z
LAST-MODIFIED:20231116T192507Z
UID:11030-1701774000-1701774000@aocan.org
SUMMARY:Nursery Rhymes
DESCRIPTION:
URL:https://aocan.org/event/nursery-rhymes/2023-12-05/
CATEGORIES:EarlyOn
END:VEVENT
BEGIN:VEVENT
DTSTART;TZID=America/Toronto:20231205T100000
DTEND;TZID=America/Toronto:20231205T100000
DTSTAMP:20260421T133457
CREATED:20231116T192308Z
LAST-MODIFIED:20231116T192308Z
UID:11026-1701770400-1701770400@aocan.org
SUMMARY:Literacy Skills
DESCRIPTION:
URL:https://aocan.org/event/literacy-skills/2023-12-05/
CATEGORIES:EarlyOn
ATTACH;FMTTYPE=image/jpeg:https://aocan.org/wordpress/wp-content/uploads/2023/01/6-1.jpg
END:VEVENT
BEGIN:VEVENT
DTSTART;TZID=America/Toronto:20231205T090000
DTEND;TZID=America/Toronto:20231205T090000
DTSTAMP:20260421T133457
CREATED:20231116T192152Z
LAST-MODIFIED:20231116T192152Z
UID:11022-1701766800-1701766800@aocan.org
SUMMARY:Fine Motor Practice
DESCRIPTION:
URL:https://aocan.org/event/fine-motor-practice/2023-12-05/
CATEGORIES:EarlyOn
ATTACH;FMTTYPE=image/jpeg:https://aocan.org/wordpress/wp-content/uploads/2023/01/6.jpg
END:VEVENT
BEGIN:VEVENT
DTSTART;TZID=America/Toronto:20231204T100000
DTEND;TZID=America/Toronto:20231204T100000
DTSTAMP:20260421T133457
CREATED:20231116T191958Z
LAST-MODIFIED:20231205T165333Z
UID:11018-1701684000-1701684000@aocan.org
SUMMARY:Math Exploration
DESCRIPTION:
URL:https://aocan.org/event/math-exploration-5/2023-12-04/
CATEGORIES:EarlyOn
ATTACH;FMTTYPE=image/jpeg:https://aocan.org/wordpress/wp-content/uploads/2023/01/2-1.jpg
END:VEVENT
BEGIN:VEVENT
DTSTART;TZID=America/Toronto:20231204T093000
DTEND;TZID=America/Toronto:20231204T093000
DTSTAMP:20260421T133457
CREATED:20231116T191818Z
LAST-MODIFIED:20231205T165352Z
UID:11014-1701682200-1701682200@aocan.org
SUMMARY:Group Art
DESCRIPTION:
URL:https://aocan.org/event/group-art-3/2023-12-04/
CATEGORIES:EarlyOn
ATTACH;FMTTYPE=image/jpeg:https://aocan.org/wordpress/wp-content/uploads/2023/01/8-1.jpg
END:VEVENT
BEGIN:VEVENT
DTSTART;TZID=America/Toronto:20231201T110000
DTEND;TZID=America/Toronto:20231201T110000
DTSTAMP:20260421T133457
CREATED:20231116T191559Z
LAST-MODIFIED:20231116T191559Z
UID:11011-1701428400-1701428400@aocan.org
SUMMARY:Dance and Movement
DESCRIPTION:
URL:https://aocan.org/event/dance-and-movement-3/2023-12-01/
CATEGORIES:EarlyOn
ATTACH;FMTTYPE=image/jpeg:https://aocan.org/wordpress/wp-content/uploads/2023/01/8-1.jpg
END:VEVENT
BEGIN:VEVENT
DTSTART;TZID=America/Toronto:20231201T100000
DTEND;TZID=America/Toronto:20231201T100000
DTSTAMP:20260421T133457
CREATED:20231116T191457Z
LAST-MODIFIED:20231116T191457Z
UID:11008-1701424800-1701424800@aocan.org
SUMMARY:Sensory Exploration
DESCRIPTION:
URL:https://aocan.org/event/sensory-exploration-3/2023-12-01/
CATEGORIES:EarlyOn
END:VEVENT
BEGIN:VEVENT
DTSTART;TZID=America/Toronto:20231201T090000
DTEND;TZID=America/Toronto:20231201T130000
DTSTAMP:20260421T133457
CREATED:20231116T182830Z
LAST-MODIFIED:20231205T165415Z
UID:10970-1701421200-1701435600@aocan.org
SUMMARY:Drop-in Free Play
DESCRIPTION:
URL:https://aocan.org/event/drop-in-free-play-26/2023-12-01/
CATEGORIES:EarlyOn
ATTACH;FMTTYPE=image/jpeg:https://aocan.org/wordpress/wp-content/uploads/2023/01/5-1.jpg
END:VEVENT
BEGIN:VEVENT
DTSTART;TZID=America/Toronto:20231201T090000
DTEND;TZID=America/Toronto:20231201T090000
DTSTAMP:20260421T133457
CREATED:20231116T191306Z
LAST-MODIFIED:20231116T191306Z
UID:11003-1701421200-1701421200@aocan.org
SUMMARY:Holiday Crafts
DESCRIPTION:
URL:https://aocan.org/event/holiday-crafts/2023-12-01/
CATEGORIES:EarlyOn
ATTACH;FMTTYPE=image/jpeg:https://aocan.org/wordpress/wp-content/uploads/2023/01/8-1.jpg
END:VEVENT
BEGIN:VEVENT
DTSTART;TZID=America/Toronto:20231107T110000
DTEND;TZID=America/Toronto:20231107T113000
DTSTAMP:20260421T133457
CREATED:20231101T143548Z
LAST-MODIFIED:20231101T143548Z
UID:10900-1699354800-1699356600@aocan.org
SUMMARY:Fine Motor Play
DESCRIPTION:
URL:https://aocan.org/event/fine-motor-play-5/2023-11-07/
CATEGORIES:EarlyOn
ATTACH;FMTTYPE=image/jpeg:https://aocan.org/wordpress/wp-content/uploads/2023/01/6-1.jpg
END:VEVENT
BEGIN:VEVENT
DTSTART;TZID=America/Toronto:20231107T103000
DTEND;TZID=America/Toronto:20231107T110000
DTSTAMP:20260421T133457
CREATED:20231101T143408Z
LAST-MODIFIED:20231101T143408Z
UID:10895-1699353000-1699354800@aocan.org
SUMMARY:Sensory Exploration
DESCRIPTION:
URL:https://aocan.org/event/sensory-exploration-2/2023-11-07/
CATEGORIES:EarlyOn
ATTACH;FMTTYPE=image/jpeg:https://aocan.org/wordpress/wp-content/uploads/2023/01/6-1.jpg
END:VEVENT
BEGIN:VEVENT
DTSTART;TZID=America/Toronto:20231106T110000
DTEND;TZID=America/Toronto:20231106T113000
DTSTAMP:20260421T133457
CREATED:20231101T143217Z
LAST-MODIFIED:20231101T143217Z
UID:10890-1699268400-1699270200@aocan.org
SUMMARY:STEAM
DESCRIPTION:Science\, Technology\, Engineering\, Art and Math
URL:https://aocan.org/event/steam/2023-11-06/
CATEGORIES:EarlyOn
ATTACH;FMTTYPE=image/jpeg:https://aocan.org/wordpress/wp-content/uploads/2023/01/2-1.jpg
END:VEVENT
BEGIN:VEVENT
DTSTART;TZID=America/Toronto:20231106T103000
DTEND;TZID=America/Toronto:20231106T110000
DTSTAMP:20260421T133457
CREATED:20231101T142710Z
LAST-MODIFIED:20231101T142710Z
UID:10884-1699266600-1699268400@aocan.org
SUMMARY:Group Art
DESCRIPTION:
URL:https://aocan.org/event/group-art-2/2023-11-06/
CATEGORIES:EarlyOn
ATTACH;FMTTYPE=image/jpeg:https://aocan.org/wordpress/wp-content/uploads/2023/01/8-1.jpg
END:VEVENT
BEGIN:VEVENT
DTSTART;TZID=America/Toronto:20231103T110000
DTEND;TZID=America/Toronto:20231103T113000
DTSTAMP:20260421T133457
CREATED:20231101T142421Z
LAST-MODIFIED:20231101T142421Z
UID:10879-1699009200-1699011000@aocan.org
SUMMARY:Dance and Movement
DESCRIPTION:
URL:https://aocan.org/event/dance-and-movement-2/2023-11-03/
CATEGORIES:EarlyOn
END:VEVENT
BEGIN:VEVENT
DTSTART;TZID=America/Toronto:20231103T100000
DTEND;TZID=America/Toronto:20231103T103000
DTSTAMP:20260421T133457
CREATED:20231101T140833Z
LAST-MODIFIED:20231101T140833Z
UID:10874-1699005600-1699007400@aocan.org
SUMMARY:Math Exploration
DESCRIPTION:
URL:https://aocan.org/event/math-exploration-4/2023-11-03/
CATEGORIES:EarlyOn
ATTACH;FMTTYPE=image/jpeg:https://aocan.org/wordpress/wp-content/uploads/2023/01/2-1.jpg
END:VEVENT
BEGIN:VEVENT
DTSTART;TZID=America/Toronto:20231102T103000
DTEND;TZID=America/Toronto:20231102T110000
DTSTAMP:20260421T133457
CREATED:20231101T140639Z
LAST-MODIFIED:20231101T140639Z
UID:10868-1698921000-1698922800@aocan.org
SUMMARY:Let's Make Snacks
DESCRIPTION:
URL:https://aocan.org/event/lets-make-snacks/2023-11-02/
CATEGORIES:EarlyOn
ATTACH;FMTTYPE=image/jpeg:https://aocan.org/wordpress/wp-content/uploads/2023/01/7.jpg
END:VEVENT
BEGIN:VEVENT
DTSTART;TZID=America/Toronto:20231101T133000
DTEND;TZID=America/Toronto:20231101T150000
DTSTAMP:20260421T133457
CREATED:20231101T135216Z
LAST-MODIFIED:20231101T135216Z
UID:10843-1698845400-1698850800@aocan.org
SUMMARY:Drop in Free Play
DESCRIPTION:
URL:https://aocan.org/event/drop-in-free-play-25/
CATEGORIES:EarlyOn
END:VEVENT
BEGIN:VEVENT
DTSTART;TZID=America/Toronto:20231101T110000
DTEND;TZID=America/Toronto:20231101T113000
DTSTAMP:20260421T133457
CREATED:20231101T140447Z
LAST-MODIFIED:20231101T140447Z
UID:10857-1698836400-1698838200@aocan.org
SUMMARY:Indigenous Traditions
DESCRIPTION:
URL:https://aocan.org/event/indigenous-traditions-3/2023-11-01/
CATEGORIES:EarlyOn
ATTACH;FMTTYPE=image/jpeg:https://aocan.org/wordpress/wp-content/uploads/2023/01/1-2.jpg
END:VEVENT
BEGIN:VEVENT
DTSTART;TZID=America/Toronto:20231101T103000
DTEND;TZID=America/Toronto:20231101T110000
DTSTAMP:20260421T133457
CREATED:20231101T140244Z
LAST-MODIFIED:20231101T140244Z
UID:10851-1698834600-1698836400@aocan.org
SUMMARY:Art with Jaime
DESCRIPTION:
URL:https://aocan.org/event/art-with-jaime-2/2023-11-01/
CATEGORIES:EarlyOn
ATTACH;FMTTYPE=image/jpeg:https://aocan.org/wordpress/wp-content/uploads/2023/01/8-1.jpg
END:VEVENT
BEGIN:VEVENT
DTSTART;TZID=America/Toronto:20231101T100000
DTEND;TZID=America/Toronto:20231101T120000
DTSTAMP:20260421T133457
CREATED:20231101T134513Z
LAST-MODIFIED:20231101T134859Z
UID:10765-1698832800-1698840000@aocan.org
SUMMARY:Drop in Free Play
DESCRIPTION:
URL:https://aocan.org/event/drop-in-free-play-24/2023-11-01/
CATEGORIES:EarlyOn
ATTACH;FMTTYPE=image/jpeg:https://aocan.org/wordpress/wp-content/uploads/2023/01/5-1.jpg
END:VEVENT
BEGIN:VEVENT
DTSTART;TZID=America/Toronto:20231101T100000
DTEND;TZID=America/Toronto:20231101T103000
DTSTAMP:20260421T133457
CREATED:20231101T135937Z
LAST-MODIFIED:20231101T135937Z
UID:10845-1698832800-1698834600@aocan.org
SUMMARY:Storytime with Nan
DESCRIPTION:
URL:https://aocan.org/event/storytime-with-nan-5/2023-11-01/
CATEGORIES:EarlyOn
ATTACH;FMTTYPE=image/jpeg:https://aocan.org/wordpress/wp-content/uploads/2023/02/Featured-EarlyON-Calendar-Images-1.jpg
END:VEVENT
BEGIN:VEVENT
DTSTART;TZID=America/Toronto:20231031T100000
DTEND;TZID=America/Toronto:20231031T120000
DTSTAMP:20260421T133457
CREATED:20231024T132844Z
LAST-MODIFIED:20231024T132844Z
UID:10762-1698746400-1698753600@aocan.org
SUMMARY:Halloween Party
DESCRIPTION:Bring your families\, wear your costumes and join us for some spooky Halloween fun!
URL:https://aocan.org/event/halloween-party/
LOCATION:Anishnabeg Outreach\, 236 Woodhaven Rd.\, Kitchener\, Ontario\, N2C 1V5\, Canada
CATEGORIES:EarlyOn
END:VEVENT
BEGIN:VEVENT
DTSTART;VALUE=DATE:20231023
DTEND;VALUE=DATE:20231024
DTSTAMP:20260421T133457
CREATED:20231010T134349Z
LAST-MODIFIED:20231010T134349Z
UID:10695-1698019200-1698105599@aocan.org
SUMMARY:EarlyON Closed for Professional Development Day
DESCRIPTION:
URL:https://aocan.org/event/earlyon-closed-for-professional-development-day/
CATEGORIES:EarlyOn
END:VEVENT
BEGIN:VEVENT
DTSTART;TZID=America/Toronto:20231021T100000
DTEND;TZID=America/Toronto:20231021T140000
DTSTAMP:20260421T133457
CREATED:20231010T134445Z
LAST-MODIFIED:20231010T134445Z
UID:10697-1697882400-1697896800@aocan.org
SUMMARY:Halloween Carnival
DESCRIPTION:
URL:https://aocan.org/event/halloween-carnival-2/
CATEGORIES:EarlyOn
END:VEVENT
BEGIN:VEVENT
DTSTART;TZID=America/Toronto:20231016T113000
DTEND;TZID=America/Toronto:20231016T120000
DTSTAMP:20260421T133457
CREATED:20231010T140001Z
LAST-MODIFIED:20231010T140001Z
UID:10748-1697455800-1697457600@aocan.org
SUMMARY:Science Exploration
DESCRIPTION:
URL:https://aocan.org/event/science-exploration-3/2023-10-16/
CATEGORIES:EarlyOn
ATTACH;FMTTYPE=image/jpeg:https://aocan.org/wordpress/wp-content/uploads/2023/01/2-1.jpg
END:VEVENT
BEGIN:VEVENT
DTSTART;TZID=America/Toronto:20231016T110000
DTEND;TZID=America/Toronto:20231016T113000
DTSTAMP:20260421T133457
CREATED:20231010T135855Z
LAST-MODIFIED:20231010T135855Z
UID:10745-1697454000-1697455800@aocan.org
SUMMARY:Fine Motor Activity
DESCRIPTION:
URL:https://aocan.org/event/fine-motor-activity-2/2023-10-16/
CATEGORIES:EarlyOn
ATTACH;FMTTYPE=image/jpeg:https://aocan.org/wordpress/wp-content/uploads/2023/01/6-1.jpg
END:VEVENT
BEGIN:VEVENT
DTSTART;VALUE=DATE:20231009
DTEND;VALUE=DATE:20231010
DTSTAMP:20260421T133457
CREATED:20231010T133041Z
LAST-MODIFIED:20231010T133041Z
UID:10620-1696809600-1696895999@aocan.org
SUMMARY:Closed for Thanksgiving
DESCRIPTION:
URL:https://aocan.org/event/closed-for-thanksgiving/
CATEGORIES:EarlyOn,Wellness and Healing
END:VEVENT
BEGIN:VEVENT
DTSTART;TZID=America/Toronto:20231006T110000
DTEND;TZID=America/Toronto:20231006T113000
DTSTAMP:20260421T133457
CREATED:20231010T135710Z
LAST-MODIFIED:20231010T135710Z
UID:10740-1696590000-1696591800@aocan.org
SUMMARY:Group Art
DESCRIPTION:
URL:https://aocan.org/event/group-art/2023-10-06/
CATEGORIES:EarlyOn
ATTACH;FMTTYPE=image/jpeg:https://aocan.org/wordpress/wp-content/uploads/2023/01/8-1.jpg
END:VEVENT
END:VCALENDAR