BEGIN:VCALENDAR
VERSION:2.0
PRODID:-//Anishnabeg Outreach - ECPv6.15.20//NONSGML v1.0//EN
CALSCALE:GREGORIAN
METHOD:PUBLISH
X-ORIGINAL-URL:https://aocan.org
X-WR-CALDESC:Events for Anishnabeg Outreach
REFRESH-INTERVAL;VALUE=DURATION:PT1H
X-Robots-Tag:noindex
X-PUBLISHED-TTL:PT1H
BEGIN:VTIMEZONE
TZID:America/Toronto
BEGIN:DAYLIGHT
TZOFFSETFROM:-0500
TZOFFSETTO:-0400
TZNAME:EDT
DTSTART:20230312T070000
END:DAYLIGHT
BEGIN:STANDARD
TZOFFSETFROM:-0400
TZOFFSETTO:-0500
TZNAME:EST
DTSTART:20231105T060000
END:STANDARD
BEGIN:DAYLIGHT
TZOFFSETFROM:-0500
TZOFFSETTO:-0400
TZNAME:EDT
DTSTART:20240310T070000
END:DAYLIGHT
BEGIN:STANDARD
TZOFFSETFROM:-0400
TZOFFSETTO:-0500
TZNAME:EST
DTSTART:20241103T060000
END:STANDARD
BEGIN:DAYLIGHT
TZOFFSETFROM:-0500
TZOFFSETTO:-0400
TZNAME:EDT
DTSTART:20250309T070000
END:DAYLIGHT
BEGIN:STANDARD
TZOFFSETFROM:-0400
TZOFFSETTO:-0500
TZNAME:EST
DTSTART:20251102T060000
END:STANDARD
END:VTIMEZONE
BEGIN:VEVENT
DTSTART;TZID=America/Toronto:20240903T100000
DTEND;TZID=America/Toronto:20240903T123000
DTSTAMP:20260419T164730
CREATED:20240830T165634Z
LAST-MODIFIED:20240830T172245Z
UID:12732-1725357600-1725366600@aocan.org
SUMMARY:ELCC Navigator with Mel Mcshane
DESCRIPTION:
URL:https://aocan.org/event/elcc-navigator-with-mel-mcshane-2/
LOCATION:Anishnabeg Outreach\, 236 Woodhaven Rd.\, Kitchener\, Ontario\, N2C 1V5\, Canada
CATEGORIES:Wellness and Healing
END:VEVENT
BEGIN:VEVENT
DTSTART;TZID=America/Toronto:20240906T180000
DTEND;TZID=America/Toronto:20240906T200000
DTSTAMP:20260419T164730
CREATED:20240830T150535Z
LAST-MODIFIED:20240830T150535Z
UID:12603-1725645600-1725652800@aocan.org
SUMMARY:Paint night with Pamela
DESCRIPTION:
URL:https://aocan.org/event/paint-night-with-pamela-9/2024-09-06/
LOCATION:Ontario
CATEGORIES:Wellness and Healing
END:VEVENT
BEGIN:VEVENT
DTSTART;TZID=America/Toronto:20240912T160000
DTEND;TZID=America/Toronto:20240912T180000
DTSTAMP:20260419T164730
CREATED:20240830T150727Z
LAST-MODIFIED:20240830T172412Z
UID:12606-1726156800-1726164000@aocan.org
SUMMARY:Tutoring & Sports
DESCRIPTION:
URL:https://aocan.org/event/tutoring-sports-11/2024-09-12/
LOCATION:Country Hills Community Centre\, 100 Rittenhouse Rd.\, Kitchener\, Ontario\, N2E 2M9\, Canada
CATEGORIES:Wellness and Healing
END:VEVENT
BEGIN:VEVENT
DTSTART;TZID=America/Toronto:20240920T130000
DTEND;TZID=America/Toronto:20240920T150000
DTSTAMP:20260419T164730
CREATED:20240830T172044Z
LAST-MODIFIED:20240903T135334Z
UID:12734-1726837200-1726844400@aocan.org
SUMMARY:Giving Circle
DESCRIPTION:
URL:https://aocan.org/event/giving-circle-2/
LOCATION:Trinity United Church\, 400 Stevenson St N\, Guelph\, Ontario\, N1E 5C3\, Canada
CATEGORIES:Wellness and Healing
END:VEVENT
BEGIN:VEVENT
DTSTART;TZID=America/Toronto:20240928T100000
DTEND;TZID=America/Toronto:20240928T140000
DTSTAMP:20260419T164730
CREATED:20240830T173017Z
LAST-MODIFIED:20240830T173617Z
UID:12740-1727517600-1727532000@aocan.org
SUMMARY:Fall Carnival
DESCRIPTION:
URL:https://aocan.org/event/fall-carnival-2/
LOCATION:Anishnabeg Outreach\, 236 Woodhaven Rd.\, Kitchener\, Ontario\, N2C 1V5\, Canada
CATEGORIES:Wellness and Healing
END:VEVENT
BEGIN:VEVENT
DTSTART;TZID=America/Toronto:20240930T100000
DTEND;TZID=America/Toronto:20240930T130000
DTSTAMP:20260419T164730
CREATED:20240830T173257Z
LAST-MODIFIED:20240830T173556Z
UID:12742-1727690400-1727701200@aocan.org
SUMMARY:National Day for Truth & Reconciliation Event
DESCRIPTION:
URL:https://aocan.org/event/national-day-for-truth-reconciliation-event/
LOCATION:1160 Spitzig Road. Woolwich ON\, N0B 1M0\, 1160 Spitzig\, Woolwich\, Ontario\, N0B 1M0\, Canada
CATEGORIES:Wellness and Healing
END:VEVENT
END:VCALENDAR