BEGIN:VCALENDAR
VERSION:2.0
PRODID:-//Anishnabeg Outreach - ECPv6.15.20//NONSGML v1.0//EN
CALSCALE:GREGORIAN
METHOD:PUBLISH
X-ORIGINAL-URL:https://aocan.org
X-WR-CALDESC:Events for Anishnabeg Outreach
REFRESH-INTERVAL;VALUE=DURATION:PT1H
X-Robots-Tag:noindex
X-PUBLISHED-TTL:PT1H
BEGIN:VTIMEZONE
TZID:America/Toronto
BEGIN:DAYLIGHT
TZOFFSETFROM:-0500
TZOFFSETTO:-0400
TZNAME:EDT
DTSTART:20210314T070000
END:DAYLIGHT
BEGIN:STANDARD
TZOFFSETFROM:-0400
TZOFFSETTO:-0500
TZNAME:EST
DTSTART:20211107T060000
END:STANDARD
BEGIN:DAYLIGHT
TZOFFSETFROM:-0500
TZOFFSETTO:-0400
TZNAME:EDT
DTSTART:20220313T070000
END:DAYLIGHT
BEGIN:STANDARD
TZOFFSETFROM:-0400
TZOFFSETTO:-0500
TZNAME:EST
DTSTART:20221106T060000
END:STANDARD
BEGIN:DAYLIGHT
TZOFFSETFROM:-0500
TZOFFSETTO:-0400
TZNAME:EDT
DTSTART:20230312T070000
END:DAYLIGHT
BEGIN:STANDARD
TZOFFSETFROM:-0400
TZOFFSETTO:-0500
TZNAME:EST
DTSTART:20231105T060000
END:STANDARD
BEGIN:DAYLIGHT
TZOFFSETFROM:-0500
TZOFFSETTO:-0400
TZNAME:EDT
DTSTART:20240310T070000
END:DAYLIGHT
BEGIN:STANDARD
TZOFFSETFROM:-0400
TZOFFSETTO:-0500
TZNAME:EST
DTSTART:20241103T060000
END:STANDARD
END:VTIMEZONE
BEGIN:VEVENT
DTSTART;TZID=America/Toronto:20230113T180000
DTEND;TZID=America/Toronto:20230113T200000
DTSTAMP:20260424T150100
CREATED:20230111T163531Z
LAST-MODIFIED:20230111T164009Z
UID:7626-1673632800-1673640000@aocan.org
SUMMARY:Indigenous-led Paint Night
DESCRIPTION:Link to Register: https://aocan.org/indigenous-led-paint-nights/
URL:https://aocan.org/event/indigenous-led-paint-night/2023-01-13/
LOCATION:Zoom
CATEGORIES:Wellness and Healing
END:VEVENT
BEGIN:VEVENT
DTSTART;TZID=America/Toronto:20230112T160000
DTEND;TZID=America/Toronto:20230112T180000
DTSTAMP:20260424T150100
CREATED:20230111T164648Z
LAST-MODIFIED:20230111T164648Z
UID:7636-1673539200-1673546400@aocan.org
SUMMARY:Tutoring & Sports Program
DESCRIPTION:
URL:https://aocan.org/event/tutoring-sports-program/2023-01-12/
LOCATION:Country Hills Community Centre\, 100 Rittenhouse Rd.\, Kitchener\, Ontario\, N2E 2M9\, Canada
CATEGORIES:Wellness and Healing
END:VEVENT
BEGIN:VEVENT
DTSTART;TZID=America/Toronto:20221105T100000
DTEND;TZID=America/Toronto:20221105T140000
DTSTAMP:20260424T150100
CREATED:20221020T140142Z
LAST-MODIFIED:20221027T154340Z
UID:7248-1667642400-1667656800@aocan.org
SUMMARY:Ribbon Workshop
DESCRIPTION:
URL:https://aocan.org/event/carnival-ribbon-workshop/
CATEGORIES:EarlyOn,Wellness and Healing
END:VEVENT
BEGIN:VEVENT
DTSTART;TZID=America/Toronto:20221101T130000
DTEND;TZID=America/Toronto:20221101T150000
DTSTAMP:20260424T150100
CREATED:20221019T185034Z
LAST-MODIFIED:20221019T185034Z
UID:7246-1667307600-1667314800@aocan.org
SUMMARY:Beading Workshop (Orange Shirt Pins)
DESCRIPTION:
URL:https://aocan.org/event/beading-workshop-orange-shirt-pins/
LOCATION:Zoom
CATEGORIES:Wellness and Healing
END:VEVENT
END:VCALENDAR