BEGIN:VCALENDAR
VERSION:2.0
PRODID:-//Anishnabeg Outreach - ECPv6.15.20//NONSGML v1.0//EN
CALSCALE:GREGORIAN
METHOD:PUBLISH
X-ORIGINAL-URL:https://aocan.org
X-WR-CALDESC:Events for Anishnabeg Outreach
REFRESH-INTERVAL;VALUE=DURATION:PT1H
X-Robots-Tag:noindex
X-PUBLISHED-TTL:PT1H
BEGIN:VTIMEZONE
TZID:America/Toronto
BEGIN:DAYLIGHT
TZOFFSETFROM:-0500
TZOFFSETTO:-0400
TZNAME:EDT
DTSTART:20230312T070000
END:DAYLIGHT
BEGIN:STANDARD
TZOFFSETFROM:-0400
TZOFFSETTO:-0500
TZNAME:EST
DTSTART:20231105T060000
END:STANDARD
BEGIN:DAYLIGHT
TZOFFSETFROM:-0500
TZOFFSETTO:-0400
TZNAME:EDT
DTSTART:20240310T070000
END:DAYLIGHT
BEGIN:STANDARD
TZOFFSETFROM:-0400
TZOFFSETTO:-0500
TZNAME:EST
DTSTART:20241103T060000
END:STANDARD
BEGIN:DAYLIGHT
TZOFFSETFROM:-0500
TZOFFSETTO:-0400
TZNAME:EDT
DTSTART:20250309T070000
END:DAYLIGHT
BEGIN:STANDARD
TZOFFSETFROM:-0400
TZOFFSETTO:-0500
TZNAME:EST
DTSTART:20251102T060000
END:STANDARD
END:VTIMEZONE
BEGIN:VEVENT
DTSTART;TZID=America/Toronto:20240903T100000
DTEND;TZID=America/Toronto:20240903T123000
DTSTAMP:20260419T200955
CREATED:20240830T165634Z
LAST-MODIFIED:20240830T172245Z
UID:12732-1725357600-1725366600@aocan.org
SUMMARY:ELCC Navigator with Mel Mcshane
DESCRIPTION:
URL:https://aocan.org/event/elcc-navigator-with-mel-mcshane-2/
LOCATION:Anishnabeg Outreach\, 236 Woodhaven Rd.\, Kitchener\, Ontario\, N2C 1V5\, Canada
CATEGORIES:Wellness and Healing
END:VEVENT
BEGIN:VEVENT
DTSTART;TZID=America/Toronto:20240906T180000
DTEND;TZID=America/Toronto:20240906T200000
DTSTAMP:20260419T200955
CREATED:20240830T150535Z
LAST-MODIFIED:20240830T150535Z
UID:12603-1725645600-1725652800@aocan.org
SUMMARY:Paint night with Pamela
DESCRIPTION:
URL:https://aocan.org/event/paint-night-with-pamela-9/2024-09-06/
LOCATION:Ontario
CATEGORIES:Wellness and Healing
END:VEVENT
END:VCALENDAR